BEGIN:VCALENDAR
VERSION:2.0
PRODID:-//ROTHENSTEINER KLEINGARTENVEREIN &quot;SAALESTRAND&quot; E.V. - ECPv6.3.6//NONSGML v1.0//EN
CALSCALE:GREGORIAN
METHOD:PUBLISH
X-WR-CALNAME:ROTHENSTEINER KLEINGARTENVEREIN &quot;SAALESTRAND&quot; E.V.
X-ORIGINAL-URL:https://kgv-rothenstein.de
X-WR-CALDESC:Veranstaltungen für ROTHENSTEINER KLEINGARTENVEREIN &quot;SAALESTRAND&quot; E.V.
REFRESH-INTERVAL;VALUE=DURATION:PT1H
X-Robots-Tag:noindex
X-PUBLISHED-TTL:PT1H
BEGIN:VTIMEZONE
TZID:Europe/Berlin
BEGIN:DAYLIGHT
TZOFFSETFROM:+0100
TZOFFSETTO:+0200
TZNAME:CEST
DTSTART:20240331T010000
END:DAYLIGHT
BEGIN:STANDARD
TZOFFSETFROM:+0200
TZOFFSETTO:+0100
TZNAME:CET
DTSTART:20241027T010000
END:STANDARD
END:VTIMEZONE
BEGIN:VEVENT
DTSTART;TZID=Europe/Berlin:20241026T090000
DTEND;TZID=Europe/Berlin:20241026T120000
DTSTAMP:20260421T050808
CREATED:20240113T141126Z
LAST-MODIFIED:20240113T141126Z
UID:664-1729933200-1729944000@kgv-rothenstein.de
SUMMARY:4. Arbeitseinsatz
DESCRIPTION:Treffpunkt um 9 Uhr am Vereinsheim
URL:https://kgv-rothenstein.de/event/4-arbeitseinsatz-2/
END:VEVENT
END:VCALENDAR